BEGIN:VCALENDAR
VERSION:2.0
PRODID:-//buddhoom.com - ECPv6.13.1//NONSGML v1.0//EN
CALSCALE:GREGORIAN
METHOD:PUBLISH
X-ORIGINAL-URL:https://old.buddhoom.com
X-WR-CALDESC:Eventos para buddhoom.com
REFRESH-INTERVAL;VALUE=DURATION:PT1H
X-Robots-Tag:noindex
X-PUBLISHED-TTL:PT1H
BEGIN:VTIMEZONE
TZID:Europe/Madrid
BEGIN:DAYLIGHT
TZOFFSETFROM:+0100
TZOFFSETTO:+0200
TZNAME:CEST
DTSTART:20240331T010000
END:DAYLIGHT
BEGIN:STANDARD
TZOFFSETFROM:+0200
TZOFFSETTO:+0100
TZNAME:CET
DTSTART:20241027T010000
END:STANDARD
END:VTIMEZONE
BEGIN:VEVENT
DTSTART;TZID=Europe/Madrid:20240313T100000
DTEND;TZID=Europe/Madrid:20240313T190000
DTSTAMP:20260421T162322
CREATED:20240324T162019Z
LAST-MODIFIED:20240327T210015Z
UID:10000084-1710324000-1710356400@old.buddhoom.com
SUMMARY:Nivel I de Reiki
DESCRIPTION:En este curso de Reiki nivel 1 se te enseñan las nociones básicas del Reiki\, activarás la capacidad de curación y se te enseñará a aplicarla\, ya sea a ti mismo o a otros\, podrás tratar a tus seres más cercanos\, animales\, plantas\, minerales\, limpiar espacios de la casa\, también se te enseñarán diferentes técnicas que te ayudarán a desarrollar tu sensibilidad a la energía y potenciarán la pureza de tu canal. En el primer grado el Maestro de Reiki\, mediante la iniciación\, abrirá el canal energético del/a alumn@\, a partir de ese momento dispondrás de la Energía Universal para siempre. Se hará entrega de dosier y al final de la clase se entrega el diploma acreditativo. \nA cargo de Elena Garrido.
URL:https://old.buddhoom.com/event/nivel-i-de-reiki/
LOCATION:Reiki Energía Vital\, Buenaventura Muñoz 15\, Barcelona\, 08018\, España
CATEGORIES:Cursos
ORGANIZER;CN="Reiki Energ%C3%ADa Vital":MAILTO:info@reikienergiavital.com
END:VEVENT
BEGIN:VEVENT
DTSTART;TZID=Europe/Madrid:20240320T100000
DTEND;TZID=Europe/Madrid:20240320T190000
DTSTAMP:20260421T162322
CREATED:20240324T163156Z
LAST-MODIFIED:20240327T210027Z
UID:10000086-1710928800-1710961200@old.buddhoom.com
SUMMARY:Nivel I y II de Registros Akáshicos
DESCRIPTION:En este curso aprenderás el arte de la canalización y la comunicación celestial\, recibirás una maravillosa herramienta que te permitirá entrar en contacto por ti mismo con las vibraciones y la información registrada en el Akasha\, así como recibir la guía de los seres de Luz\, Maestros y Guías espirituales que nos acompañan en el proceso evolutivo y el despertar de la Humanidad. Esta formación te permitirá acceder a la información de tus propios registros y los de otras personas\, animales\, plantas\, minerales y espacios para el mayor bien. Los Registros Akáshicos actúan como archivo\, en el cual se encuentran y registran todos los eventos\, situaciones\, pensamientos\, emociones y acciones de un ser. Te permitirá recibir información valiosa\, orientación y ayuda para el presente\, otorga comprensión y dirección para los problemas y limitaciones presentes y ayuda en las dificultades de tu vida y de otras personas\, se detectan bloqueos y trae claridad. Gracias a la conexión con los akashicos te ayudará a recordar quién tú eres\, para que estés aquí\, cuál es tu misión y recuperar tu Poder Interior. \nA cargo de Elena Garrido.
URL:https://old.buddhoom.com/event/nivel-i-y-ii-de-registros-akashicos/
LOCATION:Reiki Energía Vital\, Buenaventura Muñoz 15\, Barcelona\, 08018\, España
CATEGORIES:Cursos
ORGANIZER;CN="Reiki Energ%C3%ADa Vital":MAILTO:info@reikienergiavital.com
END:VEVENT
BEGIN:VEVENT
DTSTART;TZID=Europe/Madrid:20240327T100000
DTEND;TZID=Europe/Madrid:20240327T190000
DTSTAMP:20260421T162322
CREATED:20240324T162634Z
LAST-MODIFIED:20240327T210036Z
UID:10000085-1711533600-1711566000@old.buddhoom.com
SUMMARY:Nivel II de Reiki
DESCRIPTION:En el nivel de Reiki II aumentarás el nivel de energía\, trabajando a nivel físico\, mental/emocional y energético\, proporcionando herramientas avanzadas para ti mism@ y para ayudar a otros. ¡Recibirás tres iniciaciones recibiendo tres símbolos y sus kotodamas (mantras o invocaciones)\, con estos tres símbolos la energía fluirá a través de ti potenciada y podrás conectar con la energía de la mas alta dimensión! Gracias al curso de nivel 2\, aprenderás técnicas avanzadas\, entre ellas la sanación a distancia\, que te permitirá sanar al pasado\, el futuro\, además del presente. ¡Una herramienta que no te puede faltar en estos tiempos y que tanto necesitamos! Se hará entrega de dosier y al final de la clase se entrega el diploma acreditativo. \nA cargo de Elena Garrido.
URL:https://old.buddhoom.com/event/nivel-ii-de-reiki/
LOCATION:Reiki Energía Vital\, Buenaventura Muñoz 15\, Barcelona\, 08018\, España
CATEGORIES:Cursos
ORGANIZER;CN="Reiki Energ%C3%ADa Vital":MAILTO:info@reikienergiavital.com
END:VEVENT
END:VCALENDAR