BEGIN:VCALENDAR
VERSION:2.0
PRODID:-//buddhoom.com - ECPv6.13.1//NONSGML v1.0//EN
CALSCALE:GREGORIAN
METHOD:PUBLISH
X-ORIGINAL-URL:https://old.buddhoom.com
X-WR-CALDESC:Eventos para buddhoom.com
REFRESH-INTERVAL;VALUE=DURATION:PT1H
X-Robots-Tag:noindex
X-PUBLISHED-TTL:PT1H
BEGIN:VTIMEZONE
TZID:Europe/Madrid
BEGIN:DAYLIGHT
TZOFFSETFROM:+0100
TZOFFSETTO:+0200
TZNAME:CEST
DTSTART:20240331T010000
END:DAYLIGHT
BEGIN:STANDARD
TZOFFSETFROM:+0200
TZOFFSETTO:+0100
TZNAME:CET
DTSTART:20241027T010000
END:STANDARD
END:VTIMEZONE
BEGIN:VEVENT
DTSTART;VALUE=DATE:20240722
DTEND;VALUE=DATE:20240729
DTSTAMP:20260421T102258
CREATED:20240626T164147Z
LAST-MODIFIED:20240626T164303Z
UID:10000873-1721606400-1722211199@old.buddhoom.com
SUMMARY:Cuerpos en Movimiento: mueve tu cuerpo\, libera tu alma
DESCRIPTION:Ábrete al crecimiento profundo a través del trabajo con el cuerpo. \nTe invitamos a sumergirte en esta experiencia profunda a través del Sistema de Movimiento de Centros de Energía. \nEn un pequeño pueblo rodeado de una preciosa energía con bosques de pinos y encinas. \nComida sana y riquísima. Piscina. Naturaleza. \nMovimiento. Yoga. Meditación. Dinámicas grupales. \nTertulias nocturnas que siempre sorprenden.
URL:https://old.buddhoom.com/event/cuerpos-en-movimiento-mueve-tu-cuerpo-libera-tu-alma/
LOCATION:Alluenda\, C. K\, 26\, Alluenda\, Zaragoza\, 50322\, España
CATEGORIES:Retiros
ATTACH;FMTTYPE=image/jpeg:https://old.buddhoom.com/wp-content/uploads/2024/06/IMG-20240310-WA0005-medium_large.jpg
END:VEVENT
END:VCALENDAR